BEGIN:VCALENDAR
VERSION:2.0
PRODID:-//wp-events-plugin.com//7.2.3.1//EN
TZID:America/Halifax
X-WR-TIMEZONE:America/Halifax
BEGIN:VEVENT
UID:1202@atlanticcanadaequineevents.com
DTSTART;TZID=America/Halifax:20260306T000000
DTEND;TZID=America/Halifax:20260308T000000
DTSTAMP:20260302T122828Z
URL:https://atlanticcanadaequineevents.com/events/austin-seelhof-reining-c
 linic/
SUMMARY:Austin Seelhof Reining Clinic
DESCRIPTION:Austin Seelhof reining clinic still has a few spots left (March
  6-8)  $700 a spot.\n\nAustin is a highly accomplished horse trained base
 d in Cochrane\, AB.  He represented the sport on the world stage at the 2
 018 World Equestrian Games\, been an NRHA Futurity and Derby finalist and 
 has earned over $400\,000 in NRHA lifetime earnings.
CATEGORIES:Clinic,Workshop
LOCATION:TS Performance Horses\, 319 Division Rd\, Pictou\, NS\, B0K 1H0\, 
 Canada
GEO:45.692511;-62.716865
X-APPLE-STRUCTURED-LOCATION;VALUE=URI;X-ADDRESS=319 Division Rd\, Pictou\, 
 NS\, B0K 1H0\, Canada;X-APPLE-RADIUS=100;X-TITLE=TS Performance Horses:geo
 :45.692511,-62.716865
END:VEVENT
BEGIN:VTIMEZONE
TZID:America/Halifax
X-LIC-LOCATION:America/Halifax
BEGIN:STANDARD
DTSTART:20251102T010000
TZOFFSETFROM:-0300
TZOFFSETTO:-0400
TZNAME:AST
END:STANDARD
END:VTIMEZONE
END:VCALENDAR