BEGIN:VCALENDAR
VERSION:2.0
PRODID:-//wp-events-plugin.com//7.2.3.1//EN
TZID:America/Halifax
X-WR-TIMEZONE:America/Halifax
BEGIN:VEVENT
UID:1145@atlanticcanadaequineevents.com
DTSTART;TZID=America/Halifax:20260425T080000
DTEND;TZID=America/Halifax:20260425T160000
DTSTAMP:20260212T132624Z
URL:https://atlanticcanadaequineevents.com/events/beginner-driving-clinic/
SUMMARY:Beginner Driving Clinic
DESCRIPTION:Carriage Driving Beginner Clinic\n\nBeginner Carriage Driving C
 linic Hosted by the New Brunswick Driving Society on APRIL 25th 2026 from 
 8:00am to 4:00pm at Off Grid Adventure (16 Mill Rd\, Anagance\, NB\, E4Z 1
 G7 - Exit 223 off of Highway-1).\n\nNo experience or horses necessary.\n\n
 Registration can be found here: https://form.jotform.com/253426464792061
ATTACH;FMTTYPE=image/jpeg:https://atlanticcanadaequineevents.com/wp-conten
 t/uploads/2026/02/carriage-driving.jpg
CATEGORIES:Clinic,Driving
LOCATION:Off Grid Adventure\, 16 Mill Road\, Anagance\, NB\, E4Z1G7\, Canad
 a
GEO:45.870876;-65.251576
X-APPLE-STRUCTURED-LOCATION;VALUE=URI;X-ADDRESS=16 Mill Road\, Anagance\, N
 B\, E4Z1G7\, Canada;X-APPLE-RADIUS=100;X-TITLE=Off Grid Adventure:geo:45.8
 70876,-65.251576
END:VEVENT
BEGIN:VTIMEZONE
TZID:America/Halifax
X-LIC-LOCATION:America/Halifax
BEGIN:DAYLIGHT
DTSTART:20260308T030000
TZOFFSETFROM:-0400
TZOFFSETTO:-0300
TZNAME:ADT
END:DAYLIGHT
END:VTIMEZONE
END:VCALENDAR