BEGIN:VCALENDAR
VERSION:2.0
PRODID:-//wp-events-plugin.com//7.2.3.1//EN
TZID:America/Halifax
X-WR-TIMEZONE:America/Halifax
BEGIN:VEVENT
UID:1221@atlanticcanadaequineevents.com
DTSTART;TZID=America/Halifax:20260620T090000
DTEND;TZID=America/Halifax:20260621T160000
DTSTAMP:20260417T124106Z
URL:https://atlanticcanadaequineevents.com/events/bowie-langille-horsemans
 hip-clinic-3/
SUMMARY:Bowie Langille Horsemanship clinic
DESCRIPTION:With over 50 years of experience\, Bowie is a true horseman who
  brings a wealth of knowledge\, patience\, and practical skills to every r
 ider he works with. At 70 years old\, he continues to share his passion fo
 r helping both horse and rider grow together.\n\nWhether you’re looking 
 to:\n✔️ Improve your horsemanship\n✔️ Refine your riding skills\n
 ✔️ Build a stronger connection with your horse\n\nThis clinic is desig
 ned to give you real\, effective tools you can take home and use.\n\nClini
 c fee: $250.00
ATTACH;FMTTYPE=image/jpeg:https://atlanticcanadaequineevents.com/wp-conten
 t/uploads/2023/01/valley-view-stables.jpg
CATEGORIES:Clinic
LOCATION:Valley View Performance Horses stables\, 10695 Highway 201\, Green
 wood \, NS\, Canada
GEO:44.96154;-64.953765
X-APPLE-STRUCTURED-LOCATION;VALUE=URI;X-ADDRESS=10695 Highway 201\, Greenwo
 od \, NS\, Canada;X-APPLE-RADIUS=100;X-TITLE=Valley View Performance Horse
 s stables:geo:44.96154,-64.953765
END:VEVENT
BEGIN:VTIMEZONE
TZID:America/Halifax
X-LIC-LOCATION:America/Halifax
BEGIN:DAYLIGHT
DTSTART:20260308T030000
TZOFFSETFROM:-0400
TZOFFSETTO:-0300
TZNAME:ADT
END:DAYLIGHT
END:VTIMEZONE
END:VCALENDAR