BEGIN:VCALENDAR
VERSION:2.0
PRODID:-//wp-events-plugin.com//7.2.3.1//EN
TZID:America/Halifax
X-WR-TIMEZONE:America/Halifax
BEGIN:VEVENT
UID:1047@atlanticcanadaequineevents.com
DTSTART;TZID=America/Halifax:20251018T120000
DTEND;TZID=America/Halifax:20251018T140000
DTSTAMP:20251115T191604Z
URL:https://atlanticcanadaequineevents.com/events/competitive-distance-rid
 ing-lunch-learn/
SUMMARY:Competitive Distance Riding Lunch &amp\; Learn
DESCRIPTION:Looking for a new adventure for you and your horse? \n\nJoin u
 s on Sat\, Oct 18 for an Info Session on Atlantic Canada Trail Riding Asso
 ciation (ACTRA) Competitive Distance Riding!\n\nSince 1980\, ACTRA has bee
 n dedicated to promoting distance riding\, encouraging good horsemanship\,
  and building a community of riders who love to challenge themselves and t
 heir equine partners.\n\nKim Crowell will provide information on the HORSE
  sport of distance competitive trail riding. This includes Endurance\, Com
 petitive Trail\, Limited/Introductory Distance\, Judged Pleasure and Ride 
 &amp\; Tie.\n\nShe will also give a demo with a horse on how your horse is
  judged and scored.\n\nWe will have a BBQ available or bring your own lunc
 h!
ATTACH;FMTTYPE=image/jpeg:https://atlanticcanadaequineevents.com/wp-conten
 t/uploads/2025/09/Distance-Riding-1.jpg
CATEGORIES:Endurance Ride,Information
LOCATION:Off Grid Adventure\, 16 Mill Road\, Anagance\, NB\, E4Z1G7\, Canad
 a
GEO:45.870876;-65.251576
X-APPLE-STRUCTURED-LOCATION;VALUE=URI;X-ADDRESS=16 Mill Road\, Anagance\, N
 B\, E4Z1G7\, Canada;X-APPLE-RADIUS=100;X-TITLE=Off Grid Adventure:geo:45.8
 70876,-65.251576
END:VEVENT
BEGIN:VTIMEZONE
TZID:America/Halifax
X-LIC-LOCATION:America/Halifax
BEGIN:DAYLIGHT
DTSTART:20250309T030000
TZOFFSETFROM:-0400
TZOFFSETTO:-0300
TZNAME:ADT
END:DAYLIGHT
END:VTIMEZONE
END:VCALENDAR