BEGIN:VCALENDAR
VERSION:2.0
PRODID:-//wp-events-plugin.com//7.2.3.1//EN
TZID:America/Halifax
X-WR-TIMEZONE:America/Halifax
BEGIN:VEVENT
UID:1034@atlanticcanadaequineevents.com
DTSTART;TZID=America/Halifax:20251018T090000
DTEND;TZID=America/Halifax:20251018T180000
DTSTAMP:20251115T191604Z
URL:https://atlanticcanadaequineevents.com/events/east-coast-turn-n-burn-f
 un-show/
SUMMARY:East Coast Turn N Burn Fun Show
DESCRIPTION:
ATTACH;FMTTYPE=image/jpeg:https://atlanticcanadaequineevents.com/wp-conten
 t/uploads/2023/01/barrel-racing.png
CATEGORIES:Gymkhana
LOCATION:Central Nova Horse & Pony (CNHP) Showgrounds\, 123 Old Salmon Rive
 r Rd\, Salmon River\, NS\, Canada
GEO:45.365517;-63.224349
X-APPLE-STRUCTURED-LOCATION;VALUE=URI;X-ADDRESS=123 Old Salmon River Rd\, S
 almon River\, NS\, Canada;X-APPLE-RADIUS=100;X-TITLE=Central Nova Horse & 
 Pony (CNHP) Showgrounds:geo:45.365517,-63.224349
END:VEVENT
BEGIN:VTIMEZONE
TZID:America/Halifax
X-LIC-LOCATION:America/Halifax
BEGIN:DAYLIGHT
DTSTART:20250309T030000
TZOFFSETFROM:-0400
TZOFFSETTO:-0300
TZNAME:ADT
END:DAYLIGHT
END:VTIMEZONE
END:VCALENDAR