BEGIN:VCALENDAR
VERSION:2.0
PRODID:-//wp-events-plugin.com//7.2.3.1//EN
TZID:America/Halifax
X-WR-TIMEZONE:America/Halifax
BEGIN:VEVENT
UID:1223@atlanticcanadaequineevents.com
DTSTART;TZID=America/Halifax:20260418T000000
DTEND;TZID=America/Halifax:20260419T000000
DTSTAMP:20260417T134422Z
URL:https://atlanticcanadaequineevents.com/events/ecra-roping-clinic/
SUMMARY:ECRA Roping Clinic
DESCRIPTION:Team Roping &amp\; Breakaway Roping clinic\n\nFundamentals in r
 ope handling\n\nIntroducing horse to roping &amp\; heel-o-matic\n\nAll lev
 els experience welcome\n\nParticipate on the ground or on horseback
ATTACH;FMTTYPE=image/jpeg:https://atlanticcanadaequineevents.com/wp-conten
 t/uploads/2023/01/roping.png
CATEGORIES:Clinic,Roping
LOCATION:CJ Quarter Horses\, 726 Gates Mountain Road\, Middleton\, NS\, Can
 ada
GEO:44.993281;-65.10921
X-APPLE-STRUCTURED-LOCATION;VALUE=URI;X-ADDRESS=726 Gates Mountain Road\, M
 iddleton\, NS\, Canada;X-APPLE-RADIUS=100;X-TITLE=CJ Quarter Horses:geo:44
 .993281,-65.10921
END:VEVENT
BEGIN:VTIMEZONE
TZID:America/Halifax
X-LIC-LOCATION:America/Halifax
BEGIN:DAYLIGHT
DTSTART:20260308T030000
TZOFFSETFROM:-0400
TZOFFSETTO:-0300
TZNAME:ADT
END:DAYLIGHT
END:VTIMEZONE
END:VCALENDAR