BEGIN:VCALENDAR
VERSION:2.0
PRODID:-//wp-events-plugin.com//7.2.3.1//EN
TZID:America/Halifax
X-WR-TIMEZONE:America/Halifax
BEGIN:VEVENT
UID:1051@atlanticcanadaequineevents.com
DTSTART;TZID=America/Halifax:20251116T101500
DTEND;TZID=America/Halifax:20251116T121500
DTSTAMP:20251115T154330Z
URL:https://atlanticcanadaequineevents.com/events/equestrian-ns-agm/
SUMMARY:Equestrian NS AGM
DESCRIPTION:Equestrian NS members are invited to join us for our Annual Gen
 eral Meeting. Preregistration link is 2025 Equestrian Nova Scotia AGM Memb
 er Pre-registration
CATEGORIES:Information
LOCATION:Pictou County Wellness Centre\, 2756 Westville Road\, New Glasgow\
 , NS\, Canada
X-APPLE-STRUCTURED-LOCATION;VALUE=URI;X-ADDRESS=2756 Westville Road\, New G
 lasgow\, NS\, Canada;X-APPLE-RADIUS=100;X-TITLE=Pictou County Wellness Cen
 tre:geo:0,0
END:VEVENT
BEGIN:VTIMEZONE
TZID:America/Halifax
X-LIC-LOCATION:America/Halifax
BEGIN:STANDARD
DTSTART:20251102T010000
TZOFFSETFROM:-0300
TZOFFSETTO:-0400
TZNAME:AST
END:STANDARD
END:VTIMEZONE
END:VCALENDAR