BEGIN:VCALENDAR
VERSION:2.0
PRODID:-//wp-events-plugin.com//7.2.3.1//EN
TZID:America/Halifax
X-WR-TIMEZONE:America/Halifax
BEGIN:VEVENT
UID:1040@atlanticcanadaequineevents.com
DTSTART;TZID=America/Halifax:20250913T100000
DTEND;TZID=America/Halifax:20250914T150000
DTSTAMP:20251115T191604Z
URL:https://atlanticcanadaequineevents.com/events/extreme-trail-workshop-e
 xtreme-trail-fun-day-weekend/
SUMMARY:Extreme Trail Workshop &amp\; Extreme Trail FUN DAY Weekend!
DESCRIPTION:\nSaddle up for a deal! Register for both our Extreme Trail Wor
 kshop (Sept 13) and the Extreme Trail Fun Day (Sept 14) and get a free sta
 ll and a free campsite on Saturday night! A $65 savings! \n\n\n\nThat's ri
 ght\, you can practice on Saturday\, hang out with your horse that night\,
  and then have a blast on Sunday. Sunday's event is more of a fun day than
  a show\, so come as you are and get ready for some fun. We'll have a time
 d run with prizes for first\, second\, and third place.\n\n\n\nSept 13 reg
 istration form: https://forms.gle/48c67et3CWcoqS9SA\nSept 14 registration 
 form: https://forms.gle/bcEE6QtkMV4Q3asA8\n
ATTACH;FMTTYPE=image/jpeg:https://atlanticcanadaequineevents.com/wp-conten
 t/uploads/2025/09/OGA-Trail-Show-Insta-Facebook-Post-2.jpg
CATEGORIES:Practice Day / Fun Show
LOCATION:Off Grid Adventure\, 16 Mill Road\, Anagance\, NB\, E4Z1G7\, Canad
 a
GEO:45.870876;-65.251576
X-APPLE-STRUCTURED-LOCATION;VALUE=URI;X-ADDRESS=16 Mill Road\, Anagance\, N
 B\, E4Z1G7\, Canada;X-APPLE-RADIUS=100;X-TITLE=Off Grid Adventure:geo:45.8
 70876,-65.251576
END:VEVENT
BEGIN:VTIMEZONE
TZID:America/Halifax
X-LIC-LOCATION:America/Halifax
BEGIN:DAYLIGHT
DTSTART:20250309T030000
TZOFFSETFROM:-0400
TZOFFSETTO:-0300
TZNAME:ADT
END:DAYLIGHT
END:VTIMEZONE
END:VCALENDAR