BEGIN:VCALENDAR
VERSION:2.0
PRODID:-//wp-events-plugin.com//7.2.3.1//EN
TZID:America/Halifax
X-WR-TIMEZONE:America/Halifax
BEGIN:VEVENT
UID:1205@atlanticcanadaequineevents.com
DTSTART;TZID=America/Halifax:20260414T090000
DTEND;TZID=America/Halifax:20260414T130000
DTSTAMP:20260302T122722Z
URL:https://atlanticcanadaequineevents.com/events/foundations-of-rider-bio
 mechanics-clinic-3/
SUMMARY:Foundations of Rider Biomechanics Clinic
DESCRIPTION:🌿 Ready to start your spring riding stronger? Join us for ou
 r Foundations of Rider Biomechanics Clinic\n\nA small-group\, interactive 
 experience designed to help you truly understand why position matters.\n\n
 Over four focused hours you’ll:\n\n 	✔ Receive Individual Simulator As
 sessment (Minimum 30 Minutes of Dedicated Time)Identify alignment patterns
 \, asymmetries\, and stability gaps that may be limiting your effectivenes
 s under saddle.\n 	✔ Learn Through Guided ObservationGain insight by wat
 ching other riders and understanding common biomechanical patterns and cor
 rections.\n 	✔ Understand Core Biomechanics PrinciplesExplore alignment\
 , pelvic mechanics\, asymmetry\, timing\, and the role of the nervous syst
 em in performance.\n 	✔ Leave With a Structured Development PlanReceive 
 a workbook\, corrective exercises\, and a clear steps to integrate exercis
 es into your regular riding.\n\nThis Is Not Just Riding Time.\nIt is a str
 uctured biomechanics session designed to:\n• Improve balance and positio
 nal stability• Reduce bad habits and create positive muscle memory• Cr
 eate measurable long-term progress\nLed by Laura Kelland MayEC NCCP Compet
 ition Coach SpecialistEC Senior Judge/Steward FEI Level 1* Steward (Jumpin
 g)\n$75 | 4 Hours | Limited SpacesMarch 21 | April 11 | April 14\nRegister
 : https://hubs.ly/Q0450t7x0\n $75 | 4 Hours | Limited Spaces 📅 March 2
 1 | April 11 | April 14
CATEGORIES:Clinic,Dressage,Eventing,Workshop
LOCATION:Willow and Withers Stables\, 1575 Middle Dyke Road\, Centreville\,
  B0P 1J0\, Annapolis Valley\, Canada
X-APPLE-STRUCTURED-LOCATION;VALUE=URI;X-ADDRESS=1575 Middle Dyke Road\, Cen
 treville\, B0P 1J0\, Annapolis Valley\, Canada;X-APPLE-RADIUS=100;X-TITLE=
 Willow and Withers Stables:geo:0,0
END:VEVENT
BEGIN:VTIMEZONE
TZID:America/Halifax
X-LIC-LOCATION:America/Halifax
BEGIN:DAYLIGHT
DTSTART:20260308T030000
TZOFFSETFROM:-0400
TZOFFSETTO:-0300
TZNAME:ADT
END:DAYLIGHT
END:VTIMEZONE
END:VCALENDAR