BEGIN:VCALENDAR
VERSION:2.0
PRODID:-//wp-events-plugin.com//7.2.3.1//EN
TZID:America/Halifax
X-WR-TIMEZONE:America/Halifax
BEGIN:VEVENT
UID:1203@atlanticcanadaequineevents.com
DTSTART;TZID=America/Halifax:20260321T090000
DTEND;TZID=America/Halifax:20260321T130000
DTSTAMP:20260302T122521Z
URL:https://atlanticcanadaequineevents.com/events/foundations-of-rider-bio
 mechanics-clinic/
SUMMARY:Foundations of Rider Biomechanics Clinic
DESCRIPTION:🌿 Ready to start your spring riding stronger? Join us for ou
 r Foundations of Rider Biomechanics Clinic\n\nA small-group\, interactive 
 experience designed to help you truly understand why position matters.\n\n
 Over four focused hours you’ll:\n\n 	✔ Receive Individual Simulator As
 sessment (Minimum 30 Minutes of Dedicated Time)Identify alignment patterns
 \, asymmetries\, and stability gaps that may be limiting your effectivenes
 s under saddle.\n 	✔ Learn Through Guided ObservationGain insight by wat
 ching other riders and understanding common biomechanical patterns and cor
 rections.\n 	✔ Understand Core Biomechanics PrinciplesExplore alignment\
 , pelvic mechanics\, asymmetry\, timing\, and the role of the nervous syst
 em in performance.\n 	✔ Leave With a Structured Development PlanReceive 
 a comprehensive workbook\, corrective exercises\, and a clear progression 
 model to integrate into your regular riding.\n\nThis Is Not Just Riding Ti
 me.\nIt is a structured biomechanics session designed to:\n• Improve bal
 ance and positional stability• Reduce bad habits and create positive mus
 cle memory• Create measurable long-term progress\nLed by Laura Kelland M
 ayEC NCCP Competition Coach SpecialistEC Senior Judge/Steward FEI Level 1*
  Steward (Jumping)\n$75 | 4 Hours | Limited SpacesMarch 21 | April 11 | Ap
 ril 14\nRegister: https://hubs.ly/Q0450t7x0\n$75 | 4 Hours | Limited Space
 s 📅 March 21 | April 11 | April 14
CATEGORIES:Clinic,Dressage,Eventing,Workshop
LOCATION:Willow & Withers Stables\, 1575 Middle Dyke Rd\, Sheffield Mills\,
  NS\, B0P 1J0\, Canada
GEO:45.14588;-64.49055
X-APPLE-STRUCTURED-LOCATION;VALUE=URI;X-ADDRESS=1575 Middle Dyke Rd\, Sheff
 ield Mills\, NS\, B0P 1J0\, Canada;X-APPLE-RADIUS=100;X-TITLE=Willow & Wit
 hers Stables:geo:45.14588,-64.49055
END:VEVENT
BEGIN:VTIMEZONE
TZID:America/Halifax
X-LIC-LOCATION:America/Halifax
BEGIN:DAYLIGHT
DTSTART:20260308T030000
TZOFFSETFROM:-0400
TZOFFSETTO:-0300
TZNAME:ADT
END:DAYLIGHT
END:VTIMEZONE
END:VCALENDAR