BEGIN:VCALENDAR
VERSION:2.0
PRODID:-//wp-events-plugin.com//7.2.3.1//EN
TZID:America/Halifax
X-WR-TIMEZONE:America/Halifax
BEGIN:VEVENT
UID:1042@atlanticcanadaequineevents.com
DTSTART;TZID=America/Halifax;VALUE=DATE:20251004
DTEND;TZID=America/Halifax;VALUE=DATE:20251006
DTSTAMP:20251115T191604Z
URL:https://atlanticcanadaequineevents.com/events/groundwork-clinic-with-j
 anice-bennett-4/
SUMMARY:Groundwork clinic with Janice Bennett
DESCRIPTION:2-day groundwork &amp\; liberty clinic.\n\nAdditional Informati
 on:\n\n 	All clinics: $250/participant\, includes stall for weekend. You'
 re responsible for feeding and cleaning stalls.\n 	2-sessions per day\n 	P
 roof of Insurance will be required prior to first time attendance in a giv
 en year.\n 	The clinics are limited to 8 participants.\n\nTo register 
 👉 Registration Form
ATTACH;FMTTYPE=image/jpeg:https://atlanticcanadaequineevents.com/wp-conten
 t/uploads/2025/01/OzzyDemoAVEx-20193.jpg
CATEGORIES:Clinic
LOCATION:Valley View Performance Horses stables\, 10695 Highway 201\, Green
 wood \, NS\, Canada
GEO:44.96154;-64.953765
X-APPLE-STRUCTURED-LOCATION;VALUE=URI;X-ADDRESS=10695 Highway 201\, Greenwo
 od \, NS\, Canada;X-APPLE-RADIUS=100;X-TITLE=Valley View Performance Horse
 s stables:geo:44.96154,-64.953765
END:VEVENT
BEGIN:VTIMEZONE
TZID:America/Halifax
X-LIC-LOCATION:America/Halifax
BEGIN:DAYLIGHT
DTSTART:20250309T030000
TZOFFSETFROM:-0400
TZOFFSETTO:-0300
TZNAME:ADT
END:DAYLIGHT
END:VTIMEZONE
END:VCALENDAR