BEGIN:VCALENDAR
VERSION:2.0
PRODID:-//wp-events-plugin.com//7.2.3.1//EN
TZID:America/Halifax
X-WR-TIMEZONE:America/Halifax
BEGIN:VEVENT
UID:1038@atlanticcanadaequineevents.com
DTSTART;TZID=America/Halifax;VALUE=DATE:20251105
DTEND;TZID=America/Halifax;VALUE=DATE:20251108
DTSTAMP:20251115T191605Z
URL:https://atlanticcanadaequineevents.com/events/jim-anderson-horsemanshi
 p-2025-pei-clinic-1/
SUMMARY:Jim Anderson Horsemanship 2025 PEI Clinic 1
DESCRIPTION:Jim Anderson will be coming to Up West Equestrian Center this N
 ovember!\n\nJim Anderson has been a favourite of many island equestrians f
 or years\, and we're thrilled to be able to host him at Up West Equestrian
  Center.\n\nFor anyone who has never attended a Jim Anderson Horsemanship 
 clinic\, you can expect a customized experience for you and your horse. Fr
 om groundwork\, to liberty\, to foundational riding\, to reining\, and so 
 much more. Jim's clinics frequently are comprised of horses and riders fro
 m all disciplines looking to apply his values\, methods and more to their 
 horsemanship.\n\n3-day clinic: November 5 - 7\n\n4-day clinic: November 8 
 - 11
ATTACH;FMTTYPE=image/jpeg:https://atlanticcanadaequineevents.com/wp-conten
 t/uploads/2024/03/jim-1-small.jpg
CATEGORIES:Clinic
LOCATION:Up West Equestrian Center\, 615 Doyle Rd\, O'Leary\, PE\, C0B 1E0\
 , Canada
GEO:46.771676;-64.292793
X-APPLE-STRUCTURED-LOCATION;VALUE=URI;X-ADDRESS=615 Doyle Rd\, O'Leary\, PE
 \, C0B 1E0\, Canada;X-APPLE-RADIUS=100;X-TITLE=Up West Equestrian Center:g
 eo:46.771676,-64.292793
END:VEVENT
BEGIN:VTIMEZONE
TZID:America/Halifax
X-LIC-LOCATION:America/Halifax
BEGIN:STANDARD
DTSTART:20251102T010000
TZOFFSETFROM:-0300
TZOFFSETTO:-0400
TZNAME:AST
END:STANDARD
END:VTIMEZONE
END:VCALENDAR