BEGIN:VCALENDAR
VERSION:2.0
PRODID:-//wp-events-plugin.com//7.2.3.1//EN
TZID:America/Halifax
X-WR-TIMEZONE:America/Halifax
BEGIN:VEVENT
UID:1036@atlanticcanadaequineevents.com
DTSTART;TZID=America/Halifax:20251027T090000
DTEND;TZID=America/Halifax:20251030T180000
DTSTAMP:20251115T191604Z
URL:https://atlanticcanadaequineevents.com/events/jim-anderson-ns-2025-cli
 nic-2/
SUMMARY:Jim Anderson NS 2025 Clinic 2
DESCRIPTION:Jim will be returning again this Fall to Nova Scotia from Octob
 er 23 to November 2.\n\nThere are two 4-day clinics and one 3-day clinic:\
 n\n4-day - $825\n\n 	Oct 23 - 26\n 	Oct 27 - 30\n\n3-day - $625\n\n 	Oct 3
 1 - Nov 2\n\nAll clinics will be held at Murphy's Stables in Hantsport.\n\
 nStalls and electrical hook-up additional\n\nAuditors are welcome\n\nSpace
  is limited. Contact Janice Bennett for availability
ATTACH;FMTTYPE=image/jpeg:https://atlanticcanadaequineevents.com/wp-conten
 t/uploads/2024/04/Jim-Anderson.jpg
CATEGORIES:Clinic
LOCATION:Murphy's Stables & Debbie's Tack Shack\, 126 Ben Jackson Rd\, Hant
 sport\, NS\, B0P 1P0\, Canada
GEO:45.06019;-64.20639
X-APPLE-STRUCTURED-LOCATION;VALUE=URI;X-ADDRESS=126 Ben Jackson Rd\, Hantsp
 ort\, NS\, B0P 1P0\, Canada;X-APPLE-RADIUS=100;X-TITLE=Murphy's Stables & 
 Debbie's Tack Shack:geo:45.06019,-64.20639
END:VEVENT
BEGIN:VTIMEZONE
TZID:America/Halifax
X-LIC-LOCATION:America/Halifax
BEGIN:DAYLIGHT
DTSTART:20250309T030000
TZOFFSETFROM:-0400
TZOFFSETTO:-0300
TZNAME:ADT
END:DAYLIGHT
END:VTIMEZONE
END:VCALENDAR