BEGIN:VCALENDAR
VERSION:2.0
PRODID:-//wp-events-plugin.com//7.2.3.1//EN
TZID:America/Halifax
X-WR-TIMEZONE:America/Halifax
BEGIN:VEVENT
UID:1045@atlanticcanadaequineevents.com
DTSTART;TZID=America/Halifax;VALUE=DATE:20250920
DTEND;TZID=America/Halifax;VALUE=DATE:20250922
DTSTAMP:20251115T191604Z
URL:https://atlanticcanadaequineevents.com/events/joey-lewis-clinic-2/
SUMMARY:Joey Lewis clinic
DESCRIPTION:Ranch Riding clinic
CATEGORIES:Clinic
LOCATION:Ferme DK Farm\, 767 Nova Scotia Trunk 1\, Comeauville\, NS\, B0W 2
 Z0\, Canada
GEO:44.29266;-66.12584
X-APPLE-STRUCTURED-LOCATION;VALUE=URI;X-ADDRESS=767 Nova Scotia Trunk 1\, C
 omeauville\, NS\, B0W 2Z0\, Canada;X-APPLE-RADIUS=100;X-TITLE=Ferme DK Far
 m:geo:44.29266,-66.12584
END:VEVENT
BEGIN:VTIMEZONE
TZID:America/Halifax
X-LIC-LOCATION:America/Halifax
BEGIN:DAYLIGHT
DTSTART:20250309T030000
TZOFFSETFROM:-0400
TZOFFSETTO:-0300
TZNAME:ADT
END:DAYLIGHT
END:VTIMEZONE
END:VCALENDAR