BEGIN:VCALENDAR
VERSION:2.0
PRODID:-//wp-events-plugin.com//7.2.3.1//EN
TZID:America/Halifax
X-WR-TIMEZONE:America/Halifax
BEGIN:VEVENT
UID:1139@atlanticcanadaequineevents.com
DTSTART;TZID=America/Halifax:20260502T090000
DTEND;TZID=America/Halifax:20260503T170000
DTSTAMP:20260212T134840Z
URL:https://atlanticcanadaequineevents.com/events/joey-lewis-ranch-series-
 clinic-2026/
SUMMARY:Joey Lewis Ranch Series clinic 2026
DESCRIPTION:Excerpt from Facebook\n\nUnlock Your Potential with Joey Lewis 
 Ranch Series at Valley View Performance Horses!\n\n 	May 2–3\n 	June 6
 –7\n 	July 4–5\n\nSaturdays: Ranch Riding\,\n\nSundays: Ranch Trail.\n
 \n The final clinic\, July 4–5\, culminates in a marked competition on 
 Sunday\, putting your skills to the test.
ATTACH;FMTTYPE=image/jpeg:https://atlanticcanadaequineevents.com/wp-conten
 t/uploads/2026/02/Joey-Lewis-Ranch-Series.jpg
CATEGORIES:Clinic
LOCATION:Valley View Performance Horses stables\, 10695 Highway 201\, Green
 wood \, NS\, Canada
GEO:44.96154;-64.953765
X-APPLE-STRUCTURED-LOCATION;VALUE=URI;X-ADDRESS=10695 Highway 201\, Greenwo
 od \, NS\, Canada;X-APPLE-RADIUS=100;X-TITLE=Valley View Performance Horse
 s stables:geo:44.96154,-64.953765
END:VEVENT
BEGIN:VTIMEZONE
TZID:America/Halifax
X-LIC-LOCATION:America/Halifax
BEGIN:DAYLIGHT
DTSTART:20260308T030000
TZOFFSETFROM:-0400
TZOFFSETTO:-0300
TZNAME:ADT
END:DAYLIGHT
END:VTIMEZONE
END:VCALENDAR