BEGIN:VCALENDAR
VERSION:2.0
PRODID:-//wp-events-plugin.com//7.2.3.1//EN
TZID:America/Halifax
X-WR-TIMEZONE:America/Halifax
BEGIN:VEVENT
UID:1032@atlanticcanadaequineevents.com
DTSTART;TZID=America/Halifax:20251025T000000
DTEND;TZID=America/Halifax:20251026T000000
DTSTAMP:20251115T191604Z
URL:https://atlanticcanadaequineevents.com/events/mn-crown-sorting-show-%f
 0%9f%91%91/
SUMMARY:M&N Crown Sorting Show 👑
DESCRIPTION:Annual ladies sorting 👑
CATEGORIES:Cattle Sorting
LOCATION:Rock 'N' Horse Ranch\, 1405 Southampton Road\, West Amherst\, NS\,
  Canada
GEO:45.814883;-64.24358
X-APPLE-STRUCTURED-LOCATION;VALUE=URI;X-ADDRESS=1405 Southampton Road\, Wes
 t Amherst\, NS\, Canada;X-APPLE-RADIUS=100;X-TITLE=Rock 'N' Horse Ranch:ge
 o:45.814883,-64.24358
END:VEVENT
BEGIN:VTIMEZONE
TZID:America/Halifax
X-LIC-LOCATION:America/Halifax
BEGIN:DAYLIGHT
DTSTART:20250309T030000
TZOFFSETFROM:-0400
TZOFFSETTO:-0300
TZNAME:ADT
END:DAYLIGHT
END:VTIMEZONE
END:VCALENDAR