BEGIN:VCALENDAR
VERSION:2.0
PRODID:-//wp-events-plugin.com//7.2.3.1//EN
TZID:America/Halifax
X-WR-TIMEZONE:America/Halifax
BEGIN:VEVENT
UID:1044@atlanticcanadaequineevents.com
DTSTART;TZID=America/Halifax;VALUE=DATE:20251020
DTEND;TZID=America/Halifax;VALUE=DATE:20251022
DTSTAMP:20251115T191604Z
URL:https://atlanticcanadaequineevents.com/events/mounted-obstacle-equitat
 ion/
SUMMARY:Mounted Obstacle Equitation
DESCRIPTION:In-hand obstacle skills\n\nridden obstacle skills\n\nobstacle p
 attern practice\n\ncompetition strategies\n\nconfidence &amp\; communicati
 on\n\n&nbsp\;
CATEGORIES:Clinic
LOCATION:Hobby Horse Farm\, 1061 Spittal Rd\, Coldbrook\, NS\, B4R 1B8\, Ca
 nada
GEO:45.045107;-64.601382
X-APPLE-STRUCTURED-LOCATION;VALUE=URI;X-ADDRESS=1061 Spittal Rd\, Coldbrook
 \, NS\, B4R 1B8\, Canada;X-APPLE-RADIUS=100;X-TITLE=Hobby Horse Farm:geo:4
 5.045107,-64.601382
END:VEVENT
BEGIN:VTIMEZONE
TZID:America/Halifax
X-LIC-LOCATION:America/Halifax
BEGIN:DAYLIGHT
DTSTART:20250309T030000
TZOFFSETFROM:-0400
TZOFFSETTO:-0300
TZNAME:ADT
END:DAYLIGHT
END:VTIMEZONE
END:VCALENDAR