BEGIN:VCALENDAR
VERSION:2.0
PRODID:-//wp-events-plugin.com//7.2.3.1//EN
TZID:America/Halifax
X-WR-TIMEZONE:America/Halifax
BEGIN:VEVENT
UID:1142@atlanticcanadaequineevents.com
DTSTART;TZID=America/Halifax;VALUE=DATE:20260404
DTEND;TZID=America/Halifax;VALUE=DATE:20260406
DTSTAMP:20260206T125604Z
URL:https://atlanticcanadaequineevents.com/events/penning-clinic-with-scot
 t-taylor-sam-parker/
SUMMARY:Penning Clinic with Scott Taylor & Sam Parker
DESCRIPTION:Excerpt from Facebook\n\nScott Taylor and Sam Parker are at it 
 again.\nThey are going to put on a Penning clinic at KJ Bakers. 273 Gospel
  Road\, Brown of the mountain\n\n\nCost $300 per person - 50% deposit to 
 hold your spot.\n\n\nFirst 18 signed and paid.\n\n\n\nAll levels of abilit
 y welcome.\n\nIf your horse has never been in cattle we can work on that. 
 If you're having an issue we will try our best to get it figured out. Let'
 s start the season off right and have our horses ready.\n\n\n\nPM Cindy Ma
 cbride for sign up or questions\n
CATEGORIES:Clinic
LOCATION:KJ Bakers\, 273 Gospel Road\, West Glenmont\, NS\, Canada
X-APPLE-STRUCTURED-LOCATION;VALUE=URI;X-ADDRESS=273 Gospel Road\, West Glen
 mont\, NS\, Canada;X-APPLE-RADIUS=100;X-TITLE=KJ Bakers:geo:0,0
END:VEVENT
BEGIN:VTIMEZONE
TZID:America/Halifax
X-LIC-LOCATION:America/Halifax
BEGIN:DAYLIGHT
DTSTART:20260308T030000
TZOFFSETFROM:-0400
TZOFFSETTO:-0300
TZNAME:ADT
END:DAYLIGHT
END:VTIMEZONE
END:VCALENDAR