BEGIN:VCALENDAR
VERSION:2.0
PRODID:-//wp-events-plugin.com//7.2.3.1//EN
TZID:America/Halifax
X-WR-TIMEZONE:America/Halifax
BEGIN:VEVENT
UID:1046@atlanticcanadaequineevents.com
DTSTART;TZID=America/Halifax:20251018T100000
DTEND;TZID=America/Halifax:20251018T160000
DTSTAMP:20251115T191604Z
URL:https://atlanticcanadaequineevents.com/events/self-serve-extreme-obsta
 cle-day/
SUMMARY:Self Serve Extreme Obstacle Day!
DESCRIPTION:Come WHEN you want to test your and your horse's skills on our 
 many obstacles for just $20!\n\nArrive anytime between 10 am and 4 pm\, st
 ay as long as you want\, leave when you are done!\n\n$20 per rider. All p
 articipants will need to show their NBEA card/number and sign our waiver.
CATEGORIES:Gymkhana,Practice Day / Fun Show
LOCATION:Off Grid Adventure\, 16 Mill Road\, Anagance\, NB\, E4Z1G7\, Canad
 a
GEO:45.870876;-65.251576
X-APPLE-STRUCTURED-LOCATION;VALUE=URI;X-ADDRESS=16 Mill Road\, Anagance\, N
 B\, E4Z1G7\, Canada;X-APPLE-RADIUS=100;X-TITLE=Off Grid Adventure:geo:45.8
 70876,-65.251576
END:VEVENT
BEGIN:VTIMEZONE
TZID:America/Halifax
X-LIC-LOCATION:America/Halifax
BEGIN:DAYLIGHT
DTSTART:20250309T030000
TZOFFSETFROM:-0400
TZOFFSETTO:-0300
TZNAME:ADT
END:DAYLIGHT
END:VTIMEZONE
END:VCALENDAR