BEGIN:VCALENDAR
VERSION:2.0
PRODID:-//wp-events-plugin.com//7.2.3.1//EN
TZID:America/Halifax
X-WR-TIMEZONE:America/Halifax
BEGIN:VEVENT
UID:1186@atlanticcanadaequineevents.com
DTSTART;TZID=America/Halifax:20260418T100000
DTEND;TZID=America/Halifax:20260418T140000
DTSTAMP:20260226T150956Z
URL:https://atlanticcanadaequineevents.com/events/skyline-stables-used-tac
 k-sale/
SUMMARY:Skyline Stables Used Tack Sale
DESCRIPTION:\nRain or shine this will happen as it’s in the indoor !\n\n\
 nConfirmed vendors \n\n 	Route 3 Equestrian \n 	Roped N Ready Hat Co\n 	Al
 ong with several other individuals as well\n\n$10 Table
ATTACH;FMTTYPE=image/jpeg:https://atlanticcanadaequineevents.com/wp-conten
 t/uploads/2026/02/skyline-tack-sale.jpg
CATEGORIES:Tack Sale
LOCATION:Skyline Stables\, 387 New Elm Road\, Chelsea\, NS\, B4V 7M3\, Cana
 da
GEO:44.382579;-64.759209
X-APPLE-STRUCTURED-LOCATION;VALUE=URI;X-ADDRESS=387 New Elm Road\, Chelsea\
 , NS\, B4V 7M3\, Canada;X-APPLE-RADIUS=100;X-TITLE=Skyline Stables:geo:44.
 382579,-64.759209
END:VEVENT
BEGIN:VTIMEZONE
TZID:America/Halifax
X-LIC-LOCATION:America/Halifax
BEGIN:DAYLIGHT
DTSTART:20260308T030000
TZOFFSETFROM:-0400
TZOFFSETTO:-0300
TZNAME:ADT
END:DAYLIGHT
END:VTIMEZONE
END:VCALENDAR