BEGIN:VCALENDAR
VERSION:2.0
PRODID:-//wp-events-plugin.com//7.2.3.1//EN
TZID:America/Halifax
X-WR-TIMEZONE:America/Halifax
BEGIN:VEVENT
UID:1144@atlanticcanadaequineevents.com
DTSTART;TZID=America/Halifax;VALUE=DATE:20260207
DTEND;TZID=America/Halifax;VALUE=DATE:20260208
DTSTAMP:20260206T132116Z
URL:https://atlanticcanadaequineevents.com/events/sorting-clinic-with-scot
 t-taylor/
SUMMARY:Sorting Clinic with Scott Taylor
DESCRIPTION:\nSorting clinic\n\n\n\n\n\n\n\nPM Cindy Macbride for sign up
  or questions\n
ATTACH;FMTTYPE=image/jpeg:https://atlanticcanadaequineevents.com/wp-conten
 t/uploads/2026/02/sorting-clinic.jpg
CATEGORIES:Clinic
LOCATION:KJ Bakers\, 273 Gospel Road\, West Glenmont\, NS\, Canada
X-APPLE-STRUCTURED-LOCATION;VALUE=URI;X-ADDRESS=273 Gospel Road\, West Glen
 mont\, NS\, Canada;X-APPLE-RADIUS=100;X-TITLE=KJ Bakers:geo:0,0
END:VEVENT
BEGIN:VTIMEZONE
TZID:America/Halifax
X-LIC-LOCATION:America/Halifax
BEGIN:STANDARD
DTSTART:20251102T010000
TZOFFSETFROM:-0300
TZOFFSETTO:-0400
TZNAME:AST
END:STANDARD
END:VTIMEZONE
END:VCALENDAR