BEGIN:VCALENDAR
VERSION:2.0
PRODID:-//wp-events-plugin.com//7.2.3.1//EN
TZID:America/Halifax
X-WR-TIMEZONE:America/Halifax
BEGIN:VEVENT
UID:1199@atlanticcanadaequineevents.com
DTSTART;TZID=America/Halifax:20260301T000000
DTEND;TZID=America/Halifax:20260323T000000
DTSTAMP:20260226T154132Z
URL:https://atlanticcanadaequineevents.com/events/virtual-liberty-spring-s
 eries-2026/
SUMMARY:Virtual Liberty Spring Series 2026
DESCRIPTION:Where: Your Preferred Place – arena\, pasture\, any flat surf
 ace\n\n\nSpring Series Dates\n\n\n\n 	March – Registration open March 1\
 , closes March 23\n 	April – Registration open April 1\, closes April 20
 \n 	May – Registration open May 1\, closes May 18\n\n\n\n\n Liberty Cha
 llenge Rulebook 2026\n\n Patterns\n\n Registration form will close as of
  the deadline\, and reopen on the first day of the next month offering.\n\
 n All proceeds will go toward prize money at the 2026 in-person show\, J
 uly 11 &amp\; 12\, in Greenwood\, NS\n\nYour video will need to be upload
 ed to a video hosting platform (such as YouTube or Vimeo\, etc) and must b
 e viewable as either a unlisted or public. Do not save it as private as th
 is is not viewable by the judges. Then you can use that link to paste in t
 he registration form. You will not be able to submit your registration wit
 hout a valid link. All videos must be continuous with no edits and sound o
 n.\n\n Record video in horizontal layout (turn phone sideways ). Make su
 re that videographer is setup where indicated on the pattern. For best res
 ults\, make sure the 2 cones are lined up perfectly through the view windo
 w of your recording device\, not just your eyes.\n\n At this time\, we ar
 e not planning to publish individual results publicly. If interest exists\
 , we may explore options to do so in the future. You are welcome to share 
 your videos and scoring feedback.\n\n The goal this year is to support an
 d encourage development\, while also helping to fundraise for the live sho
 w.\n\n Following the judging period\, estimated 5-days\, we will email re
 sults and judges feedback.
ATTACH;FMTTYPE=image/jpeg:https://atlanticcanadaequineevents.com/wp-conten
 t/uploads/2026/02/Virtual-LCS-Spring-Series-2026.jpg
CATEGORIES:Virtual Show
LOCATION:https://ozsomehorsemanship.ca/virtual-series/
END:VEVENT
BEGIN:VTIMEZONE
TZID:America/Halifax
X-LIC-LOCATION:America/Halifax
BEGIN:STANDARD
DTSTART:20251102T010000
TZOFFSETFROM:-0300
TZOFFSETTO:-0400
TZNAME:AST
END:STANDARD
BEGIN:DAYLIGHT
DTSTART:20260308T030000
TZOFFSETFROM:-0400
TZOFFSETTO:-0300
TZNAME:ADT
END:DAYLIGHT
END:VTIMEZONE
END:VCALENDAR